BEGIN:VCALENDAR
VERSION:2.0
PRODID:-//wp-events-plugin.com//7.2.3.1//EN
TZID:America/Chicago
X-WR-TIMEZONE:America/Chicago
BEGIN:VEVENT
UID:21@texasbaseballranch.com
DTSTART:20260101T000000Z
DTEND:20500101T235900Z
DTSTAMP:20260413T194214Z
URL:https://www.texasbaseballranch.com/events/private-lesson/
SUMMARY:Private Lessons
DESCRIPTION:The Ranch's private instruction program is built around you—y
 our mechanics\, your arm health\, your goals. Every session is tailored to
  address your specific needs\, whether that's building velocity\, sharpeni
 ng command\, developing secondary pitches\, or keeping your arm healthy fo
 r the long road ahead.\nIf you are willing to invest in yourself\, this is
  the path that has meant real progress for countless pitchers before you.\
 nReach out today. You have nothing to lose and everything to gain.
END:VEVENT
END:VCALENDAR