BEGIN:VCALENDAR
VERSION:2.0
PRODID:-//wp-events-plugin.com//7.2.3.1//EN
TZID:America/Chicago
X-WR-TIMEZONE:America/Chicago
BEGIN:VEVENT
UID:16@texasbaseballranch.com
DTSTART:20251212T090000Z
DTEND:20251214T170000Z
DTSTAMP:20251113T010834Z
URL:https://www.texasbaseballranch.com/events/elite-catchers-boot-camp/
SUMMARY:Elite Catcher's Boot Camp
DESCRIPTION:#content { width:100% } \n\n\nYou're invited to ...\nThe 7th An
 nual\nElite Catchers Boot Camp\nAdvanced Catcher’s Developmental Trainin
 g For Catching Athletes\n13 Years Old and Up\nAt The Texas Baseball Ranch
 ®\nMontgomery\, TX\nDecember 12-14\, 2025\n\n\nClick HERE to Register NOW
 \n&nbsp\;\n\nDear Catcher\,\n\nIf you have a burning desire to receive and
  block pitches like a professional catcher … get your pop times at 2.0 o
 r below … put the ball on the bag and get more guys out …\n\n.... this
  may be the most important letter you ever read.\n\nHere’s why: You’re
  invited to a brand-new boot camp only for catchers\, with MLB coaches and
  professional catchers in attendance\, to help you reach your next level a
 s a catcher.\n\nBut first … you and I can both agree: Catching is very H
 ARD.\n\nCatchers must be tough. They are called upon to be warriors.\n\nWi
 th all the skills you have to master … and the physical challenges you f
 ace … you're practically the baseball version of a Navy SEAL out there.\
 n\nYou’ve got pitch calling\, receiving\, blocking\, throwing out base-s
 tealers\, backing up first base on ground balls\, tags at the plate\, pick
 off throws\, pop flys in foul territory and near the dugout\, and much mor
 e.\n\nYou have to know your pitcher\, sense their problems\, walk out and 
 calm them down like a psychiatrist ... and all those jobs are rolled into 
 one hot\, sweaty\, PUNISHING position.\n\nNobody understands or appreciate
 s everything you do as a catcher\, except maybe a few enlightened pitchers
  and ex -catchers . It's a lonely position in which you are involved in al
 most every single play and when the pressure is on\, the outcome of the ga
 me often itself hangs on the decisions you make.\n\nThey can change pitche
 rs two or three times an inning ... change infielders or outfielders ... b
 ut rarely if ever do they change catchers. Think about that ...\nYou're Th
 e Most Difficult Position Player To Replace\, Because You Play The Most De
 manding Position!\nSo\, it’s about time somebody designed a training eve
 nt to cover ALL the skills you need to excel at your position.\n\nThat tim
 e is now. That event is The Elite Catchers Boot Camp. And you’re invited
 .\n\nHere's why this is important: Elite performance requires elite coachi
 ng. It's as simple as that.\n\nThe instructors and coaches you surround yo
 urself with will largely determine how far you go as a catcher. That's why
  I've assembled catching coaches from Professional Baseball including the 
 Major Leagues to give you ...\nThe Missing Pieces To The Catching Puzzle\n
 You see\, when most people think about catching\, they think only about re
 ceiving\, blocking\, and throwing ... and those are all incredibly importa
 nt. But often it's the other essentials -- the little things that add up t
 o BIG improvements -- that you must master if you want to reach the next l
 evel as a catcher.\n\nAt this one-of-a-kind\, 3-day Elite Catchers Boot Ca
 mp\, you get hands-on training in these essentials:\n\nElite-Level Receivi
 ng - Session 1 (Fastball)\nElite-Level Receiving - Session 2 (Secondary)\n
 Elite-Level Blocking Techniques: 2 sessions\nElements to a Sub 2.0 Pop Tim
 e - Session 1 (Footwork\, transfer\, velocity &amp\; command)\nElements to
  a Sub 2.0 Pop Time - Session 2 (Drills to improve)\nMobility and Flexibil
 ity\nArm Prep and Arm Care (including a personal video analysis)\nBut that
 's not enough. You could read about pro-level catching techniques or see t
 hem in a YouTube video.\n\nWhat makes this Boot Camp so valuable to you ar
 e the elite-level coaches who are working with YOU personally.\n\nWith exp
 erience playing and coaching at the highest levels of baseball\, including
  the Major Leagues\, you get access to catching secrets and shortcuts you 
 won't find anywhere else.\n\n&nbsp\;\nHere's A Quick Look At Who's Coachin
 g And Mentoring You:\n&nbsp\;\n\nGreg Brown: Co-owner - Florida Baseball R
 anch®. Former Chicago Cubs Hitting coach and former head coach at Nova So
 utheastern University. He's often referred to as the "Dean" of college cat
 ching instructors in America\, coaching 2 Rawlings Gold Glove recipients a
 t catcher\, including one of our instructors\, Garrett Wolforth! With 15 y
 ears of experience developing elite players\, Brown has seen 35 of his pla
 yers sign pro contracts since 2011. Any young catcher who had the opportun
 ity to listen to and work personally with Brownie would never forget that 
 experience.\n\nEddy Rodriguez: Co-owner - Florida Baseball Ranch®. Former
  Minor League Field Coordinator for the New York Mets\, Former Major Leagu
 e Catching Coach for the Miami Marlins and former catcher with the San Die
 go Padres. His family defected from Cuba on his father's fishing boat when
  he was 7 years old\, nearly dying on the journey. You'd better believe Ed
 dy can make you tougher and better when it comes to catching!\n\nJosh Paul
 : Former MLB catcher\, catching coordinator and Major League Bench Coach. 
 With 10+ years of experience at the MLB level as both a player and coach\,
  Paul brings a wealth of on-field experience and insight to his coaching a
 nd training process. His expertise extends beyond the field as an editor o
 f the Florida Baseball Ranch® catching manual. His dedication to player d
 evelopment and his comprehensive understanding of catching make him an inv
 aluable resource for aspiring and experience catchers alike.\n\nGarrett Wo
 lforth: Former professional catcher. Garrett has been exposed to our throw
 ing process for his entire life at the Texas Baseball Ranch®\, which may 
 explain how he set a PG Record at the 2014 National Underclass All-America
 n Games of 89 mph to second base and 1.75 pop time that remain the best ev
 er at the event. Data is everywhere in baseball today and although in its 
 infancy\, catchers are also being assessed by data at the professional lev
 el.  In Garrett’s first full year of catching\, he rated out a 107.5 on
  a scale where 100 is average professional catcher\, which boded very well
  for his training and off-season work. The reports also indicated to him n
 ot only where he was very good but where he personally needed to improve. 
 You’ll love learning from his experience.\n\nMichael Trautwein: AAA catc
 her for the Cincinnati Reds. "Trauty" grew up outside of Atlanta\, GA and 
 played his college baseball at the University of Michigan. He was drafted 
 in the 13th round by the Reds in 2021 and quickly moved up levels due to h
 is defensive skill and on-field abilities to manage pitchers . In 2024\, h
 e was selected to participate in the prestigious MLB Fall League. Trauty h
 as an incredible energy and passion for the game which he loves sharing wi
 th younger players.\n\nHere's a sample of a True Media heat map. Red indic
 ates where the catcher did well and blue where he underachieved. During th
 e camp you will get an understanding along with specific training on how t
 o improve receiving to all areas of the zone.\n\n\n\nClick HERE to Registe
 r NOW\n&nbsp\;\nHere's A Sample Of What You'll Discover …\n&nbsp\;\n\n\n
 \n[embed]https://vimeo.com/1078051622/6435bd8116?ts=0&share=copy[/embed]\n
 \n\n\nFormer professional catcher\, Greg Brown\, teaches receiving skills 
 -- and makes it simple!\n&nbsp\;\n\n\n\n\nCoach Eddy Rodriguez teaching ma
 jor league blocking techniques\n\n\n\nGarrett Wolforth teaching a connecte
 d and efficient catcher's throw during the video analysis.\n\n\n\n&nbsp\;\
 nMeet Your Coaches And Instructors\n\n\n\n\n\n\nGreg Brown\nFlorida Baseba
 ll Ranch®\n\n\nEddy Rodriguez\nFlorida Baseball Ranch®\n\n\n&nbsp\;\n\n\
 n\nGarrett Wolforth\nTexas Baseball Ranch®\n\n\nRon Wolforth\nCEO\, Texas
  Baseball Ranch®\n\n\n\n\nJosh Paul\nFlorida Baseball Ranch®\n\n\n\nMich
 ael Trautwein\nCincinnati Reds\n\n\n\n\n&nbsp\;\n\n&nbsp\;\nWhy Is This A 
 "Must-Attend" Event?\nThis Elite Catchers Boot Camp is for you if ...\n\n 
 	You have a love for baseball and catching\n 	You are persistent\n 	You ha
 ve a burning desire to improve\n 	You are not afraid of hard work\n 	You h
 ave parents who are supportive\, think you have great potential but know y
 ou are missing a few things and want to get you in front of the best of th
 e best\n 	You've tried other training systems and just haven't made the im
 provements you expected\n\nNow\, you may be wondering ...\n"Am I Elite Eno
 ugh For This?"\nTo us\, 'elite' refers to a mindset and not a skill set. I
 f you love catching -- TRULY love catching -- you are to us 'elite'. If on
  the other hand you simply like to play catcher but don’t really want to
  be challenged \, we recommend a less intense camp.\n\n&nbsp\;\nThe Elite 
 Catchers Boot Camp Has The Power To Change Your Life\nNearly 40% of player
 s who come to The Texas Baseball Ranch® ... come back for their second an
 d third camps. Why? Because with every visit\, they unlock new levels of s
 kills and expand their potential. They learn more and they become better. 
 Now it’s your turn!\n\nFact: You may already be a good catcher. Maybe ev
 en a great catcher. But your current ability does NOT matter. Because at t
 he Ranch\, you don’t just reach your fixed potential ... you discover ho
 w to expand your potential and go beyond what you thought was possible.\n\
 nWhat’s possible for you? You may never know. Not unless you have the ri
 ght coach to bring it out of you. That’s the most important thing a coac
 h can do -- paint a picture of what’s possible for you. And that's why I
 've assembled a whole team of the best catching coaches I could find for y
 ou.\n\nBottom Line: When you go home\, you will almost certainly surprise 
 yourself and shock your teammates. And you can't make a mistake thanks to 
 our Texas Size Money-Back Guarantee. So please\, don't put this off and mi
 ss out.\n\nSee you at Boot Camp!\n\nCoach Wolforth Texas Baseball Ranch®\
 n\n&nbsp\;\n\n&nbsp\;\n\n&nbsp\;\nWhat Parents And Catchers\nAre Saying Ab
 out This Event\n\n\n\n\n[embed]https://vimeo.com/1078040445/cde8147a80?ts=
 0&share=copy[/embed]\n\n[embed]https://vimeo.com/1078038394/8e5b545d4a?ts=
 0&share=copy[/embed]\n\n\n\n\n\n\n“Way more than a camp! This is elite c
 atcher training at the professional level. We have attended many catching 
 lessons and camps from Florida to Georgia and this is the best. Small grou
 ps gave each player time to work with coached individually and to ask ques
 tions. Well worth the money. We will do this training again."\n- Debbie Me
 aux\, Gulf Breeze\, Texas\n\n“We could not have been more pleased. From 
 enrollment to arrival and completion\, the process was organized and strea
 mlined. The camp itself was dynamic\, thorough\, professional\, interactiv
 e. This has already been a game changer for my son in several areas and he
  will be back the next time this is offered. He is already talking about a
 ll he can take home and put into practice and then carry forward to his te
 am.”\n- Kelly Verret\, Needville\, Texas\n\n“Wow! The coaches are exce
 llent. Their knowledge shows the gap between where we are now and where th
 e pros are. Within 15 minutes\, you notice that you are in the presence of
  professionals! Thank you for this opportunity. Nothing like it anywhere e
 lse.”\n- David Stowers\, Mobile\, Alabama\n\n“This wasn’t the typica
 l repetitive drill instruction. Getting input from these great coaching mi
 nds all at one event is unheard of. I appreciate Ron\, the TBR staff and t
 he list of coaches involved for putting together a high caliber event for 
 a group of kids that play the most important role on the field. We’ll de
 finitely return.”\n- Gerry Garcia\, Houston\, Texas\n\n&nbsp\;\nAGENDA\n
 \n\n\n\n\nFriday\, December 12\n1:00 pm - 6:00 pm\n(Check in at 12:30 pm)\
 nFor your travel convenience\, you can arrive Friday morning and still mak
 e our 1pm start!\nFirst day of elite training\, coaching\, and Q&amp\;A. L
 earn from other guys\, make new friends\, and watch yourself improve.\n\n\
 nSaturday and Sunday December 13 &amp\; 14\n9:00 am - 5:00 pm (Sat.)\n9:00
  am - 2:30 pm (Sun.)\nTwo more days of assessments\, elite training\, coac
 hing\, and Q&amp\;A. You take home a personalized development plan\, so yo
 ur new skills are "locked and loaded" for next season!\nWe finish early Su
 nday afternoon\, so you can travel home faster.\n\n\n\n\n&nbsp\;\nVENUE\n\
 n\n\n\n\n\n\n\n\nThe Boot Camp is held in our 4\,700 sq. ft. theater and a
 ssessment center ... or as we call it\, The Big Red Barn. Designed specifi
 cally for baseball training and for quick access to our three 3\,600 sq. f
 t. practice barns and 4\,800 sq. ft pavilion for hands-on sessions. It's b
 een called "the ultimate venue for the advancement of baseball."\n\n&nbsp\
 ;\nThe Texas Baseball Ranch®\n5451 Honea-Egypt Rd.\nMontgomery\, TX 77316
 \nPhone: 936-588-6762\n&nbsp\;\nHow to Register:\nElite Catchers Boot Camp
  is $2999 $2499 if you register by midnight October 31st (and spots are st
 ill available).\nOr 3 Monthly Payments of only $1049.67 $883\n\n\n 	3 Days
 : Friday\, Dec. 12 (starts at 1:00pm) to Sunday\, Dec. 14 (ends at 2:30pm)
 \n 	8 Elite Training Sessions\n 	Training Handouts\n 	Personal Coaching an
 d Mentoring\n 	Daily Q &amp\; A\n 	Swag Bag with the equipment you need to
  train at home\n 	Money-Back Guarantee\n\n&nbsp\;\nClick HERE to Register 
 NOW\n&nbsp\;\n\n&nbsp\;\n\n&nbsp\;\nIMPORTANT!\nWhen we sell out\, you are
  locked out.\nThis Boot Camp is designed to deliver more personalized\, ML
 B-level\, catchers' training in 3 days than you can get all year. So we've
  decided to limit attendance to only 36 catchers. And 9 signed up right aw
 ay.\n\nAs of today\, over 1\,900 players have been invited to those remain
 ing 27 spots.\n\nThat's only 1 spot for every 70 of you. Not enough to go 
 around ...\n\nThis is your first\, last\, and ONLY chance to get in at thi
 s ticket price\, so don’t miss out. You'll receive a confirmation email 
 including hotel information after you sign up. Plus ...\nYou're Protected 
 By Our "Texas-Size" 100% Money-Back Guarantee\nIt's simple: Come to the Bo
 ot Camp. Put us to the test. If\, by lunch on Day 2\, you aren't absolutel
 y delighted with the event for any reason\, just let us know. Your ticket 
 will be cheerfully and immediately refunded. Plus\, we'll even pay up to $
 500 of your documented travel costs! No questions asked. No hassles either
 . We wouldn't have it any other way.\n\nIMPORTANT: Your $500 savings ends 
 midnight on October 31\, 2025. After that\, the discount disappears and th
 e price goes up. Please lock in your savings and register today!\n\n&nbsp\
 ;\n\n&nbsp\;\n\n\n\n\n\nGot questions? Call or email today!\nInfo@TexasBas
 eballRanch.com\n936-588-6762\n&nbsp\;\n\n\n\n&nbsp\;\n\n&nbsp\;\n\n&nbsp\;
 \n\n&nbsp\;\n\n&nbsp\;
CATEGORIES:Live
END:VEVENT
END:VCALENDAR